BEGIN:VCALENDAR
VERSION:2.0
PRODID:-//Thornton Park District - ECPv6.15.17.1//NONSGML v1.0//EN
CALSCALE:GREGORIAN
METHOD:PUBLISH
X-WR-CALNAME:Thornton Park District
X-ORIGINAL-URL:https://www.thorntonparkdistrict.com
X-WR-CALDESC:Events for Thornton Park District
REFRESH-INTERVAL;VALUE=DURATION:PT1H
X-Robots-Tag:noindex
X-PUBLISHED-TTL:PT1H
BEGIN:VTIMEZONE
TZID:America/New_York
BEGIN:DAYLIGHT
TZOFFSETFROM:-0500
TZOFFSETTO:-0400
TZNAME:EDT
DTSTART:20240310T070000
END:DAYLIGHT
BEGIN:STANDARD
TZOFFSETFROM:-0400
TZOFFSETTO:-0500
TZNAME:EST
DTSTART:20241103T060000
END:STANDARD
BEGIN:DAYLIGHT
TZOFFSETFROM:-0500
TZOFFSETTO:-0400
TZNAME:EDT
DTSTART:20250309T070000
END:DAYLIGHT
BEGIN:STANDARD
TZOFFSETFROM:-0400
TZOFFSETTO:-0500
TZNAME:EST
DTSTART:20251102T060000
END:STANDARD
BEGIN:DAYLIGHT
TZOFFSETFROM:-0500
TZOFFSETTO:-0400
TZNAME:EDT
DTSTART:20260308T070000
END:DAYLIGHT
BEGIN:STANDARD
TZOFFSETFROM:-0400
TZOFFSETTO:-0500
TZNAME:EST
DTSTART:20261101T060000
END:STANDARD
END:VTIMEZONE
BEGIN:VEVENT
DTSTART;TZID=America/New_York:20251031T180000
DTEND;TZID=America/New_York:20251031T220000
DTSTAMP:20260424T010825
CREATED:20250625T175140Z
LAST-MODIFIED:20260423T210813Z
UID:10000305-1761933600-1761948000@www.thorntonparkdistrict.com
SUMMARY:TPD Night Market
DESCRIPTION:EVENT DETAILS\nThe TPD Market is a regularly occurring event — every Thursday and Friday (pending city events and road closures) — highlighting uniquely fantastic local makers + artists. Held at TPD Circle\, we curate select artists/makers. We’re so looking forward to seeing you! \nInterested in participating?\nA market without makers would be\, well\, nothing at all. We’ve had so much fun getting to know so many Orlando makers + we can’t wait to meet even more. Apply for future TPD Market dates here: https://linktr.ee/orangeboyevents! \nThank you for wanting to be a part of the TPD Market!
URL:https://www.thorntonparkdistrict.com/event/washington-street-market-2/2025-10-31/
LOCATION:TPD Circle\, Orlando\, FL\, 32801\, United States
ATTACH;FMTTYPE=image/jpeg:https://www.thorntonparkdistrict.com/wp-content/uploads/2024/02/TPD-Night-Market.jpg
GEO:28.542586;-81.370775
END:VEVENT
BEGIN:VEVENT
DTSTART;TZID=America/New_York:20251031T200000
DTEND;TZID=America/New_York:20251101T020000
DTSTAMP:20260424T010825
CREATED:20251015T172741Z
LAST-MODIFIED:20251015T173228Z
UID:10001137-1761940800-1761962400@www.thorntonparkdistrict.com
SUMMARY:12th Annual Halloween Block Party in TPD!
DESCRIPTION:The 12th Annual Thornton Park District Halloween Block Party is back and bigger than ever! 👻\n🗓️ Friday\, October 31st\n⏰ 8PM – 2AM\n📍 E. Washington St. & Summerlin Ave\n21+ – bring your ID!\nTickets: Online Presale: $20 – Day of event: $30\nTickets: eventbrite.com/e/1648381285799 \nWhat to expect:\n💀 Epic Halloween Costume Contest (sign up 9–11PM)\n🎶 DJ’s + Live Entertainment by Vaudeville Entertainment\n🍹 Outside bars + drink specials all night\n🏆 Prizes for best costumes (TBD)\n🧛‍♀️ Come ready to dance\, sip\, and celebrate under the stars in the heart of Thornton Park!🌧️ Rain or shine – No refunds \n*The Thornton Park District is a non-profit entity made possible through the interest\, efforts\, and generosity of the City of Orlando Main Street Program as well as our many members and volunteers. Our annual Halloween Block Party is a fundraiser to support community improvement projects.
URL:https://www.thorntonparkdistrict.com/event/tpd-11th-annual-halloween-block-party-2/
LOCATION:Thornton Park District\, 700 E Washington St\, Orlando\, FL\, 32801\, United States
ATTACH;FMTTYPE=image/jpeg:https://www.thorntonparkdistrict.com/wp-content/uploads/2024/09/TPD-Halloween-Instagram-2-scaled.jpg
ORGANIZER;CN="Thornton Park District":MAILTO:director@thorntonparkdistrict.com
GEO:28.5424992;-81.3681691
X-APPLE-STRUCTURED-LOCATION;VALUE=URI;X-ADDRESS=Thornton Park District 700 E Washington St Orlando FL 32801 United States;X-APPLE-RADIUS=500;X-TITLE=700 E Washington St:geo:-81.3681691,28.5424992
END:VEVENT
END:VCALENDAR