BEGIN:VCALENDAR
VERSION:2.0
PRODID:-//Thornton Park District - ECPv6.15.17.1//NONSGML v1.0//EN
CALSCALE:GREGORIAN
METHOD:PUBLISH
X-WR-CALNAME:Thornton Park District
X-ORIGINAL-URL:https://www.thorntonparkdistrict.com
X-WR-CALDESC:Events for Thornton Park District
REFRESH-INTERVAL;VALUE=DURATION:PT1H
X-Robots-Tag:noindex
X-PUBLISHED-TTL:PT1H
BEGIN:VTIMEZONE
TZID:America/New_York
BEGIN:DAYLIGHT
TZOFFSETFROM:-0500
TZOFFSETTO:-0400
TZNAME:EDT
DTSTART:20240310T070000
END:DAYLIGHT
BEGIN:STANDARD
TZOFFSETFROM:-0400
TZOFFSETTO:-0500
TZNAME:EST
DTSTART:20241103T060000
END:STANDARD
BEGIN:DAYLIGHT
TZOFFSETFROM:-0500
TZOFFSETTO:-0400
TZNAME:EDT
DTSTART:20250309T070000
END:DAYLIGHT
BEGIN:STANDARD
TZOFFSETFROM:-0400
TZOFFSETTO:-0500
TZNAME:EST
DTSTART:20251102T060000
END:STANDARD
BEGIN:DAYLIGHT
TZOFFSETFROM:-0500
TZOFFSETTO:-0400
TZNAME:EDT
DTSTART:20260308T070000
END:DAYLIGHT
BEGIN:STANDARD
TZOFFSETFROM:-0400
TZOFFSETTO:-0500
TZNAME:EST
DTSTART:20261101T060000
END:STANDARD
END:VTIMEZONE
BEGIN:VEVENT
DTSTART;TZID=America/New_York:20251106T180000
DTEND;TZID=America/New_York:20251106T220000
DTSTAMP:20260424T010808
CREATED:20250625T175140Z
LAST-MODIFIED:20260423T210813Z
UID:10000306-1762452000-1762466400@www.thorntonparkdistrict.com
SUMMARY:TPD Night Market
DESCRIPTION:EVENT DETAILS\nThe TPD Market is a regularly occurring event — every Thursday and Friday (pending city events and road closures) — highlighting uniquely fantastic local makers + artists. Held at TPD Circle\, we curate select artists/makers. We’re so looking forward to seeing you! \nInterested in participating?\nA market without makers would be\, well\, nothing at all. We’ve had so much fun getting to know so many Orlando makers + we can’t wait to meet even more. Apply for future TPD Market dates here: https://linktr.ee/orangeboyevents! \nThank you for wanting to be a part of the TPD Market!
URL:https://www.thorntonparkdistrict.com/event/washington-street-market-2/2025-11-06/
LOCATION:TPD Circle\, Orlando\, FL\, 32801\, United States
ATTACH;FMTTYPE=image/jpeg:https://www.thorntonparkdistrict.com/wp-content/uploads/2024/02/TPD-Night-Market.jpg
GEO:28.542586;-81.370775
END:VEVENT
BEGIN:VEVENT
DTSTART;TZID=America/New_York:20251106T183000
DTEND;TZID=America/New_York:20251106T213000
DTSTAMP:20260424T010808
CREATED:20250929T172119Z
LAST-MODIFIED:20250929T174919Z
UID:10001139-1762453800-1762464600@www.thorntonparkdistrict.com
SUMMARY:The 24th Annual Taste of Thornton Park
DESCRIPTION:The 24th Annual Taste of Thornton Park Food & Libations tasting event is our biggest Taste event ever! Enjoy a spectacular evening under the stars with tastings from 40 local restaurants and businesses. This event takes place on East Washington Street\, at the beautiful 4 Rivers Fountain in Thornton Park. Music will be presented by a local DJ. \nVisit thorntonpark.org for more event information. Tickets are available here: eventbrite.com/24th-annual-taste-of-thornton-park-tickets\nTickets: $45 advance\, $55 day of\, and at door. We accept all major credit cards and cash at door. ID’s will be checked at the gate.\nRain or Shine…at the Fountain in Thornton Park. \nChildren\, Strollers and Pets are NOT permitted. This is an over 21 event. A big thank you to our sponsors\, Thornton Park District and the Downtown Development Board. Interested in becoming a sponsor\, contact Leo Hunt at 407-448-0859.
URL:https://www.thorntonparkdistrict.com/event/the-24th-annual-taste-of-thornton-park/
LOCATION:East Washington Street – Thornton Park
ATTACH;FMTTYPE=image/jpeg:https://www.thorntonparkdistrict.com/wp-content/uploads/2025/09/Taste-of-Thornton-Park_Logo.jpg
END:VEVENT
END:VCALENDAR