BEGIN:VCALENDAR
VERSION:2.0
PRODID:-//Thornton Park District - ECPv6.15.17.1//NONSGML v1.0//EN
CALSCALE:GREGORIAN
METHOD:PUBLISH
X-ORIGINAL-URL:https://www.thorntonparkdistrict.com
X-WR-CALDESC:Events for Thornton Park District
REFRESH-INTERVAL;VALUE=DURATION:PT1H
X-Robots-Tag:noindex
X-PUBLISHED-TTL:PT1H
BEGIN:VTIMEZONE
TZID:America/New_York
BEGIN:DAYLIGHT
TZOFFSETFROM:-0500
TZOFFSETTO:-0400
TZNAME:EDT
DTSTART:20250309T070000
END:DAYLIGHT
BEGIN:STANDARD
TZOFFSETFROM:-0400
TZOFFSETTO:-0500
TZNAME:EST
DTSTART:20251102T060000
END:STANDARD
BEGIN:DAYLIGHT
TZOFFSETFROM:-0500
TZOFFSETTO:-0400
TZNAME:EDT
DTSTART:20260308T070000
END:DAYLIGHT
BEGIN:STANDARD
TZOFFSETFROM:-0400
TZOFFSETTO:-0500
TZNAME:EST
DTSTART:20261101T060000
END:STANDARD
BEGIN:DAYLIGHT
TZOFFSETFROM:-0500
TZOFFSETTO:-0400
TZNAME:EDT
DTSTART:20270314T070000
END:DAYLIGHT
BEGIN:STANDARD
TZOFFSETFROM:-0400
TZOFFSETTO:-0500
TZNAME:EST
DTSTART:20271107T060000
END:STANDARD
END:VTIMEZONE
BEGIN:VEVENT
DTSTART;TZID=America/New_York:20260514T180000
DTEND;TZID=America/New_York:20260514T220000
DTSTAMP:20260423T182936
CREATED:20250625T175140Z
LAST-MODIFIED:20260423T210813Z
UID:10000360-1778781600-1778796000@www.thorntonparkdistrict.com
SUMMARY:TPD Night Market
DESCRIPTION:EVENT DETAILS\nThe TPD Market is a regularly occurring event — every Thursday and Friday (pending city events and road closures) — highlighting uniquely fantastic local makers + artists. Held at TPD Circle\, we curate select artists/makers. We’re so looking forward to seeing you! \nInterested in participating?\nA market without makers would be\, well\, nothing at all. We’ve had so much fun getting to know so many Orlando makers + we can’t wait to meet even more. Apply for future TPD Market dates here: https://linktr.ee/orangeboyevents! \nThank you for wanting to be a part of the TPD Market!
URL:https://www.thorntonparkdistrict.com/event/washington-street-market-2/2026-05-14/
LOCATION:TPD Circle\, Orlando\, FL\, 32801\, United States
ATTACH;FMTTYPE=image/jpeg:https://www.thorntonparkdistrict.com/wp-content/uploads/2024/02/TPD-Night-Market.jpg
GEO:28.542586;-81.370775
END:VEVENT
BEGIN:VEVENT
DTSTART;TZID=America/New_York:20260514T183000
DTEND;TZID=America/New_York:20260514T213000
DTSTAMP:20260423T182936
CREATED:20260423T205700Z
LAST-MODIFIED:20260423T205700Z
UID:10000034-1778783400-1778794200@www.thorntonparkdistrict.com
SUMMARY:Thornton Park District 2nd Thursday Wine & Art Walk
DESCRIPTION:Join us for another fun-filled evening in Thornton Park District! In celebration of Lulu The Cat\, The Mayor of Thornton Park’s birthday\, we’ll be pre-selling a Lulu Gift Bag\, which includes your ticket and also some fun Lulu surprises! Proceeds benefit the non-profit Brozanski for Cats. \nPurchase tickets online here\, or at the door\, where you’ll pick up a wristband\, map and a tasting cup to stop at local businesses to sample tasty adult libations or treats! Along the way we have artists and art vendors\, live music\, DJ’s\, and a night market at TPD Circle (near the SE corner of Lake Eola). This event is always dog friendly\, 21+ to sample alcohol\, and all ages to enjoy the arts and walk around the Thornton Park District. \nThursday\, May 14th – 6:30pm-9:30pm\nCheck-in at: Lambs Eat Ivy Salon – 804 E Washington St\, Orlando\, FL 32801\nSuggested Donation: $10 Early Bird until 5/7 – $15 Pre-sale – $20 day of event and at check-in.\nTickets: https://www.eventbrite.com/e/1988033203829 \nLulu The Cat Gift Bag/ticket: $20\n– Includes one Wine & Art Walk ticket\n– Custom Lulu Wine Walk Cup\n– Lulu Passport- Lulu Lanyard and Badge\n– Cat Ear Headband\n– Sip\, Stroll\, Celebrate Lulu Scratch Off Ticket (for simple Lulu merch prizes) \n21+ to sample alcohol – all ages to enjoy the arts and walk. No ticket needed for walking\, tickets are only needed for sampling. Please\, only one sample per location. Extra samples and unlimited sampling is not guaranteed. \n*CHECK IN TIME IS BETWEEN 6:30PM-9:00PM *\n**CHECK IN CLOSES AT 9:00PM**\n***RAIN OR SHINE – NO REFUNDS***\n*The Thornton Park District is a non-profit entity made possible through the interest\, efforts\, and generosity of the City of Orlando Main Street Program as well as our many members and volunteers. Our monthly Wine & Art Walk is a fundraiser to support community improvement projects.
URL:https://www.thorntonparkdistrict.com/event/2nd-thursday-art-wine-walk-2-3-3/
LOCATION:FL
ATTACH;FMTTYPE=image/png:https://www.thorntonparkdistrict.com/wp-content/uploads/2026/01/IG-Graphic_May-Wine-Walk.png
ORGANIZER;CN="Thornton Park District":MAILTO:director@thorntonparkdistrict.com
END:VEVENT
END:VCALENDAR