BEGIN:VCALENDAR
VERSION:2.0
PRODID:-//Thornton Park District - ECPv6.15.17.1//NONSGML v1.0//EN
CALSCALE:GREGORIAN
METHOD:PUBLISH
X-ORIGINAL-URL:https://www.thorntonparkdistrict.com
X-WR-CALDESC:Events for Thornton Park District
REFRESH-INTERVAL;VALUE=DURATION:PT1H
X-Robots-Tag:noindex
X-PUBLISHED-TTL:PT1H
BEGIN:VTIMEZONE
TZID:America/New_York
BEGIN:DAYLIGHT
TZOFFSETFROM:-0500
TZOFFSETTO:-0400
TZNAME:EDT
DTSTART:20240310T070000
END:DAYLIGHT
BEGIN:STANDARD
TZOFFSETFROM:-0400
TZOFFSETTO:-0500
TZNAME:EST
DTSTART:20241103T060000
END:STANDARD
BEGIN:DAYLIGHT
TZOFFSETFROM:-0500
TZOFFSETTO:-0400
TZNAME:EDT
DTSTART:20250309T070000
END:DAYLIGHT
BEGIN:STANDARD
TZOFFSETFROM:-0400
TZOFFSETTO:-0500
TZNAME:EST
DTSTART:20251102T060000
END:STANDARD
BEGIN:DAYLIGHT
TZOFFSETFROM:-0500
TZOFFSETTO:-0400
TZNAME:EDT
DTSTART:20260308T070000
END:DAYLIGHT
BEGIN:STANDARD
TZOFFSETFROM:-0400
TZOFFSETTO:-0500
TZNAME:EST
DTSTART:20261101T060000
END:STANDARD
BEGIN:DAYLIGHT
TZOFFSETFROM:-0500
TZOFFSETTO:-0400
TZNAME:EDT
DTSTART:20270314T070000
END:DAYLIGHT
BEGIN:STANDARD
TZOFFSETFROM:-0400
TZOFFSETTO:-0500
TZNAME:EST
DTSTART:20271107T060000
END:STANDARD
END:VTIMEZONE
BEGIN:VEVENT
DTSTART;TZID=America/New_York:20251231T200000
DTEND;TZID=America/New_York:20260101T020000
DTSTAMP:20260423T200132
CREATED:20251216T190024Z
LAST-MODIFIED:20251216T191313Z
UID:10001143-1767211200-1767232800@www.thorntonparkdistrict.com
SUMMARY:Thornton Park New Year's Eve Party
DESCRIPTION:Ring in the New Year at Orlando’s most fun New Year’s Eve bash: The Thornton Park New Year’s Eve Street Party!\n\n\n\nHosted by your favorite local bars\, the Thornton Park NYE Street Party features deejays spinning all night long\, cocktails\, food vendors\, dancing and Orlando’s Orange Ball Drop at midnight! \nPurchase presale tickets here \n$10 Tito’s Keepsake Cups available to benefit Second Harvest Food Bank. \nPresented by Burton’s\, Cavo’s\, The Reindeer Room\, Kaleidoscope Thornton Park and Abbey Bar Catering. \n21+
URL:https://www.thorntonparkdistrict.com/event/thornton-park-new-years-eve-party/
LOCATION:East Washington Street – Thornton Park
ATTACH;FMTTYPE=image/jpeg:https://www.thorntonparkdistrict.com/wp-content/uploads/2025/12/NYE-Flyer-Graphic-scaled.jpg
END:VEVENT
BEGIN:VEVENT
DTSTART;TZID=America/New_York:20260101T180000
DTEND;TZID=America/New_York:20260101T220000
DTSTAMP:20260423T200132
CREATED:20250625T175140Z
LAST-MODIFIED:20260423T210813Z
UID:10000322-1767290400-1767304800@www.thorntonparkdistrict.com
SUMMARY:TPD Night Market
DESCRIPTION:EVENT DETAILS\nThe TPD Market is a regularly occurring event — every Thursday and Friday (pending city events and road closures) — highlighting uniquely fantastic local makers + artists. Held at TPD Circle\, we curate select artists/makers. We’re so looking forward to seeing you! \nInterested in participating?\nA market without makers would be\, well\, nothing at all. We’ve had so much fun getting to know so many Orlando makers + we can’t wait to meet even more. Apply for future TPD Market dates here: https://linktr.ee/orangeboyevents! \nThank you for wanting to be a part of the TPD Market!
URL:https://www.thorntonparkdistrict.com/event/washington-street-market-2/2026-01-01/
LOCATION:TPD Circle\, Orlando\, FL\, 32801\, United States
ATTACH;FMTTYPE=image/jpeg:https://www.thorntonparkdistrict.com/wp-content/uploads/2024/02/TPD-Night-Market.jpg
GEO:28.542586;-81.370775
END:VEVENT
BEGIN:VEVENT
DTSTART;TZID=America/New_York:20260102T180000
DTEND;TZID=America/New_York:20260102T220000
DTSTAMP:20260423T200132
CREATED:20250625T175140Z
LAST-MODIFIED:20260423T210813Z
UID:10000323-1767376800-1767391200@www.thorntonparkdistrict.com
SUMMARY:TPD Night Market
DESCRIPTION:EVENT DETAILS\nThe TPD Market is a regularly occurring event — every Thursday and Friday (pending city events and road closures) — highlighting uniquely fantastic local makers + artists. Held at TPD Circle\, we curate select artists/makers. We’re so looking forward to seeing you! \nInterested in participating?\nA market without makers would be\, well\, nothing at all. We’ve had so much fun getting to know so many Orlando makers + we can’t wait to meet even more. Apply for future TPD Market dates here: https://linktr.ee/orangeboyevents! \nThank you for wanting to be a part of the TPD Market!
URL:https://www.thorntonparkdistrict.com/event/washington-street-market-2/2026-01-02/
LOCATION:TPD Circle\, Orlando\, FL\, 32801\, United States
ATTACH;FMTTYPE=image/jpeg:https://www.thorntonparkdistrict.com/wp-content/uploads/2024/02/TPD-Night-Market.jpg
GEO:28.542586;-81.370775
END:VEVENT
BEGIN:VEVENT
DTSTART;TZID=America/New_York:20260104T100000
DTEND;TZID=America/New_York:20260104T150000
DTSTAMP:20260423T200132
CREATED:20240217T182753Z
LAST-MODIFIED:20240217T182753Z
UID:10000748-1767520800-1767538800@www.thorntonparkdistrict.com
SUMMARY:Orlando Farmers Market
DESCRIPTION:The Orlando Farmers Market is much more than your traditional farmers market. Bringing the best in fresh produce\, baked goods\, crafts\, gifts\, jewelry\, plants and more… food\, shopping and fun for all ages make it the perfect family afternoon. The market is dog friendly! \nParking \nFree on-street parking — including metered spaces — is available within walking distance of the market. Paid parking garages are located on South Osceola Avenue and North Eola Drive. Simply follow the city directional signs to the nearest garage.
URL:https://www.thorntonparkdistrict.com/event/orlando-farmers-market-3/2026-01-04/
LOCATION:Lake Eola Park\, Orlando\, FL\, 32801\, United States
ATTACH;FMTTYPE=image/jpeg:https://www.thorntonparkdistrict.com/wp-content/uploads/2023/07/326216097_1147661762554137_4919558894956435204_n.jpg
GEO:28.542586;-81.370775
END:VEVENT
BEGIN:VEVENT
DTSTART;TZID=America/New_York:20260108T180000
DTEND;TZID=America/New_York:20260108T220000
DTSTAMP:20260423T200132
CREATED:20250625T175140Z
LAST-MODIFIED:20260423T210813Z
UID:10000324-1767895200-1767909600@www.thorntonparkdistrict.com
SUMMARY:TPD Night Market
DESCRIPTION:EVENT DETAILS\nThe TPD Market is a regularly occurring event — every Thursday and Friday (pending city events and road closures) — highlighting uniquely fantastic local makers + artists. Held at TPD Circle\, we curate select artists/makers. We’re so looking forward to seeing you! \nInterested in participating?\nA market without makers would be\, well\, nothing at all. We’ve had so much fun getting to know so many Orlando makers + we can’t wait to meet even more. Apply for future TPD Market dates here: https://linktr.ee/orangeboyevents! \nThank you for wanting to be a part of the TPD Market!
URL:https://www.thorntonparkdistrict.com/event/washington-street-market-2/2026-01-08/
LOCATION:TPD Circle\, Orlando\, FL\, 32801\, United States
ATTACH;FMTTYPE=image/jpeg:https://www.thorntonparkdistrict.com/wp-content/uploads/2024/02/TPD-Night-Market.jpg
GEO:28.542586;-81.370775
END:VEVENT
BEGIN:VEVENT
DTSTART;TZID=America/New_York:20260109T180000
DTEND;TZID=America/New_York:20260109T220000
DTSTAMP:20260423T200132
CREATED:20250625T175140Z
LAST-MODIFIED:20260423T210813Z
UID:10000325-1767981600-1767996000@www.thorntonparkdistrict.com
SUMMARY:TPD Night Market
DESCRIPTION:EVENT DETAILS\nThe TPD Market is a regularly occurring event — every Thursday and Friday (pending city events and road closures) — highlighting uniquely fantastic local makers + artists. Held at TPD Circle\, we curate select artists/makers. We’re so looking forward to seeing you! \nInterested in participating?\nA market without makers would be\, well\, nothing at all. We’ve had so much fun getting to know so many Orlando makers + we can’t wait to meet even more. Apply for future TPD Market dates here: https://linktr.ee/orangeboyevents! \nThank you for wanting to be a part of the TPD Market!
URL:https://www.thorntonparkdistrict.com/event/washington-street-market-2/2026-01-09/
LOCATION:TPD Circle\, Orlando\, FL\, 32801\, United States
ATTACH;FMTTYPE=image/jpeg:https://www.thorntonparkdistrict.com/wp-content/uploads/2024/02/TPD-Night-Market.jpg
GEO:28.542586;-81.370775
END:VEVENT
BEGIN:VEVENT
DTSTART;TZID=America/New_York:20260111T100000
DTEND;TZID=America/New_York:20260111T150000
DTSTAMP:20260423T200132
CREATED:20240217T182753Z
LAST-MODIFIED:20240217T182753Z
UID:10000749-1768125600-1768143600@www.thorntonparkdistrict.com
SUMMARY:Orlando Farmers Market
DESCRIPTION:The Orlando Farmers Market is much more than your traditional farmers market. Bringing the best in fresh produce\, baked goods\, crafts\, gifts\, jewelry\, plants and more… food\, shopping and fun for all ages make it the perfect family afternoon. The market is dog friendly! \nParking \nFree on-street parking — including metered spaces — is available within walking distance of the market. Paid parking garages are located on South Osceola Avenue and North Eola Drive. Simply follow the city directional signs to the nearest garage.
URL:https://www.thorntonparkdistrict.com/event/orlando-farmers-market-3/2026-01-11/
LOCATION:Lake Eola Park\, Orlando\, FL\, 32801\, United States
ATTACH;FMTTYPE=image/jpeg:https://www.thorntonparkdistrict.com/wp-content/uploads/2023/07/326216097_1147661762554137_4919558894956435204_n.jpg
GEO:28.542586;-81.370775
END:VEVENT
BEGIN:VEVENT
DTSTART;TZID=America/New_York:20260115T180000
DTEND;TZID=America/New_York:20260115T220000
DTSTAMP:20260423T200132
CREATED:20250625T175140Z
LAST-MODIFIED:20260423T210813Z
UID:10000326-1768500000-1768514400@www.thorntonparkdistrict.com
SUMMARY:TPD Night Market
DESCRIPTION:EVENT DETAILS\nThe TPD Market is a regularly occurring event — every Thursday and Friday (pending city events and road closures) — highlighting uniquely fantastic local makers + artists. Held at TPD Circle\, we curate select artists/makers. We’re so looking forward to seeing you! \nInterested in participating?\nA market without makers would be\, well\, nothing at all. We’ve had so much fun getting to know so many Orlando makers + we can’t wait to meet even more. Apply for future TPD Market dates here: https://linktr.ee/orangeboyevents! \nThank you for wanting to be a part of the TPD Market!
URL:https://www.thorntonparkdistrict.com/event/washington-street-market-2/2026-01-15/
LOCATION:TPD Circle\, Orlando\, FL\, 32801\, United States
ATTACH;FMTTYPE=image/jpeg:https://www.thorntonparkdistrict.com/wp-content/uploads/2024/02/TPD-Night-Market.jpg
GEO:28.542586;-81.370775
END:VEVENT
BEGIN:VEVENT
DTSTART;TZID=America/New_York:20260116T180000
DTEND;TZID=America/New_York:20260116T220000
DTSTAMP:20260423T200132
CREATED:20250625T175140Z
LAST-MODIFIED:20260423T210813Z
UID:10000327-1768586400-1768600800@www.thorntonparkdistrict.com
SUMMARY:TPD Night Market
DESCRIPTION:EVENT DETAILS\nThe TPD Market is a regularly occurring event — every Thursday and Friday (pending city events and road closures) — highlighting uniquely fantastic local makers + artists. Held at TPD Circle\, we curate select artists/makers. We’re so looking forward to seeing you! \nInterested in participating?\nA market without makers would be\, well\, nothing at all. We’ve had so much fun getting to know so many Orlando makers + we can’t wait to meet even more. Apply for future TPD Market dates here: https://linktr.ee/orangeboyevents! \nThank you for wanting to be a part of the TPD Market!
URL:https://www.thorntonparkdistrict.com/event/washington-street-market-2/2026-01-16/
LOCATION:TPD Circle\, Orlando\, FL\, 32801\, United States
ATTACH;FMTTYPE=image/jpeg:https://www.thorntonparkdistrict.com/wp-content/uploads/2024/02/TPD-Night-Market.jpg
GEO:28.542586;-81.370775
END:VEVENT
BEGIN:VEVENT
DTSTART;TZID=America/New_York:20260118T100000
DTEND;TZID=America/New_York:20260118T150000
DTSTAMP:20260423T200132
CREATED:20240217T182753Z
LAST-MODIFIED:20240217T182753Z
UID:10000750-1768730400-1768748400@www.thorntonparkdistrict.com
SUMMARY:Orlando Farmers Market
DESCRIPTION:The Orlando Farmers Market is much more than your traditional farmers market. Bringing the best in fresh produce\, baked goods\, crafts\, gifts\, jewelry\, plants and more… food\, shopping and fun for all ages make it the perfect family afternoon. The market is dog friendly! \nParking \nFree on-street parking — including metered spaces — is available within walking distance of the market. Paid parking garages are located on South Osceola Avenue and North Eola Drive. Simply follow the city directional signs to the nearest garage.
URL:https://www.thorntonparkdistrict.com/event/orlando-farmers-market-3/2026-01-18/
LOCATION:Lake Eola Park\, Orlando\, FL\, 32801\, United States
ATTACH;FMTTYPE=image/jpeg:https://www.thorntonparkdistrict.com/wp-content/uploads/2023/07/326216097_1147661762554137_4919558894956435204_n.jpg
GEO:28.542586;-81.370775
END:VEVENT
BEGIN:VEVENT
DTSTART;TZID=America/New_York:20260122T180000
DTEND;TZID=America/New_York:20260122T220000
DTSTAMP:20260423T200132
CREATED:20250625T175140Z
LAST-MODIFIED:20260423T210813Z
UID:10000328-1769104800-1769119200@www.thorntonparkdistrict.com
SUMMARY:TPD Night Market
DESCRIPTION:EVENT DETAILS\nThe TPD Market is a regularly occurring event — every Thursday and Friday (pending city events and road closures) — highlighting uniquely fantastic local makers + artists. Held at TPD Circle\, we curate select artists/makers. We’re so looking forward to seeing you! \nInterested in participating?\nA market without makers would be\, well\, nothing at all. We’ve had so much fun getting to know so many Orlando makers + we can’t wait to meet even more. Apply for future TPD Market dates here: https://linktr.ee/orangeboyevents! \nThank you for wanting to be a part of the TPD Market!
URL:https://www.thorntonparkdistrict.com/event/washington-street-market-2/2026-01-22/
LOCATION:TPD Circle\, Orlando\, FL\, 32801\, United States
ATTACH;FMTTYPE=image/jpeg:https://www.thorntonparkdistrict.com/wp-content/uploads/2024/02/TPD-Night-Market.jpg
GEO:28.542586;-81.370775
END:VEVENT
BEGIN:VEVENT
DTSTART;TZID=America/New_York:20260123T180000
DTEND;TZID=America/New_York:20260123T220000
DTSTAMP:20260423T200132
CREATED:20250625T175140Z
LAST-MODIFIED:20260423T210813Z
UID:10000329-1769191200-1769205600@www.thorntonparkdistrict.com
SUMMARY:TPD Night Market
DESCRIPTION:EVENT DETAILS\nThe TPD Market is a regularly occurring event — every Thursday and Friday (pending city events and road closures) — highlighting uniquely fantastic local makers + artists. Held at TPD Circle\, we curate select artists/makers. We’re so looking forward to seeing you! \nInterested in participating?\nA market without makers would be\, well\, nothing at all. We’ve had so much fun getting to know so many Orlando makers + we can’t wait to meet even more. Apply for future TPD Market dates here: https://linktr.ee/orangeboyevents! \nThank you for wanting to be a part of the TPD Market!
URL:https://www.thorntonparkdistrict.com/event/washington-street-market-2/2026-01-23/
LOCATION:TPD Circle\, Orlando\, FL\, 32801\, United States
ATTACH;FMTTYPE=image/jpeg:https://www.thorntonparkdistrict.com/wp-content/uploads/2024/02/TPD-Night-Market.jpg
GEO:28.542586;-81.370775
END:VEVENT
BEGIN:VEVENT
DTSTART;TZID=America/New_York:20260125T100000
DTEND;TZID=America/New_York:20260125T150000
DTSTAMP:20260423T200132
CREATED:20240217T182753Z
LAST-MODIFIED:20240217T182753Z
UID:10000751-1769335200-1769353200@www.thorntonparkdistrict.com
SUMMARY:Orlando Farmers Market
DESCRIPTION:The Orlando Farmers Market is much more than your traditional farmers market. Bringing the best in fresh produce\, baked goods\, crafts\, gifts\, jewelry\, plants and more… food\, shopping and fun for all ages make it the perfect family afternoon. The market is dog friendly! \nParking \nFree on-street parking — including metered spaces — is available within walking distance of the market. Paid parking garages are located on South Osceola Avenue and North Eola Drive. Simply follow the city directional signs to the nearest garage.
URL:https://www.thorntonparkdistrict.com/event/orlando-farmers-market-3/2026-01-25/
LOCATION:Lake Eola Park\, Orlando\, FL\, 32801\, United States
ATTACH;FMTTYPE=image/jpeg:https://www.thorntonparkdistrict.com/wp-content/uploads/2023/07/326216097_1147661762554137_4919558894956435204_n.jpg
GEO:28.542586;-81.370775
END:VEVENT
BEGIN:VEVENT
DTSTART;TZID=America/New_York:20260129T180000
DTEND;TZID=America/New_York:20260129T220000
DTSTAMP:20260423T200132
CREATED:20250625T175140Z
LAST-MODIFIED:20260423T210813Z
UID:10000330-1769709600-1769724000@www.thorntonparkdistrict.com
SUMMARY:TPD Night Market
DESCRIPTION:EVENT DETAILS\nThe TPD Market is a regularly occurring event — every Thursday and Friday (pending city events and road closures) — highlighting uniquely fantastic local makers + artists. Held at TPD Circle\, we curate select artists/makers. We’re so looking forward to seeing you! \nInterested in participating?\nA market without makers would be\, well\, nothing at all. We’ve had so much fun getting to know so many Orlando makers + we can’t wait to meet even more. Apply for future TPD Market dates here: https://linktr.ee/orangeboyevents! \nThank you for wanting to be a part of the TPD Market!
URL:https://www.thorntonparkdistrict.com/event/washington-street-market-2/2026-01-29/
LOCATION:TPD Circle\, Orlando\, FL\, 32801\, United States
ATTACH;FMTTYPE=image/jpeg:https://www.thorntonparkdistrict.com/wp-content/uploads/2024/02/TPD-Night-Market.jpg
GEO:28.542586;-81.370775
END:VEVENT
BEGIN:VEVENT
DTSTART;TZID=America/New_York:20260130T180000
DTEND;TZID=America/New_York:20260130T220000
DTSTAMP:20260423T200132
CREATED:20250625T175140Z
LAST-MODIFIED:20260423T210813Z
UID:10000331-1769796000-1769810400@www.thorntonparkdistrict.com
SUMMARY:TPD Night Market
DESCRIPTION:EVENT DETAILS\nThe TPD Market is a regularly occurring event — every Thursday and Friday (pending city events and road closures) — highlighting uniquely fantastic local makers + artists. Held at TPD Circle\, we curate select artists/makers. We’re so looking forward to seeing you! \nInterested in participating?\nA market without makers would be\, well\, nothing at all. We’ve had so much fun getting to know so many Orlando makers + we can’t wait to meet even more. Apply for future TPD Market dates here: https://linktr.ee/orangeboyevents! \nThank you for wanting to be a part of the TPD Market!
URL:https://www.thorntonparkdistrict.com/event/washington-street-market-2/2026-01-30/
LOCATION:TPD Circle\, Orlando\, FL\, 32801\, United States
ATTACH;FMTTYPE=image/jpeg:https://www.thorntonparkdistrict.com/wp-content/uploads/2024/02/TPD-Night-Market.jpg
GEO:28.542586;-81.370775
END:VEVENT
END:VCALENDAR