BEGIN:VCALENDAR
VERSION:2.0
PRODID:-//Thornton Park District - ECPv6.15.17.1//NONSGML v1.0//EN
CALSCALE:GREGORIAN
METHOD:PUBLISH
X-WR-CALNAME:Thornton Park District
X-ORIGINAL-URL:https://www.thorntonparkdistrict.com
X-WR-CALDESC:Events for Thornton Park District
REFRESH-INTERVAL;VALUE=DURATION:PT1H
X-Robots-Tag:noindex
X-PUBLISHED-TTL:PT1H
BEGIN:VTIMEZONE
TZID:America/New_York
BEGIN:DAYLIGHT
TZOFFSETFROM:-0500
TZOFFSETTO:-0400
TZNAME:EDT
DTSTART:20250309T070000
END:DAYLIGHT
BEGIN:STANDARD
TZOFFSETFROM:-0400
TZOFFSETTO:-0500
TZNAME:EST
DTSTART:20251102T060000
END:STANDARD
BEGIN:DAYLIGHT
TZOFFSETFROM:-0500
TZOFFSETTO:-0400
TZNAME:EDT
DTSTART:20260308T070000
END:DAYLIGHT
BEGIN:STANDARD
TZOFFSETFROM:-0400
TZOFFSETTO:-0500
TZNAME:EST
DTSTART:20261101T060000
END:STANDARD
BEGIN:DAYLIGHT
TZOFFSETFROM:-0500
TZOFFSETTO:-0400
TZNAME:EDT
DTSTART:20270314T070000
END:DAYLIGHT
BEGIN:STANDARD
TZOFFSETFROM:-0400
TZOFFSETTO:-0500
TZNAME:EST
DTSTART:20271107T060000
END:STANDARD
END:VTIMEZONE
BEGIN:VEVENT
DTSTART;TZID=America/New_York:20260301T100000
DTEND;TZID=America/New_York:20260301T150000
DTSTAMP:20260423T165740
CREATED:20240217T182753Z
LAST-MODIFIED:20240217T182753Z
UID:10000756-1772359200-1772377200@www.thorntonparkdistrict.com
SUMMARY:Orlando Farmers Market
DESCRIPTION:The Orlando Farmers Market is much more than your traditional farmers market. Bringing the best in fresh produce\, baked goods\, crafts\, gifts\, jewelry\, plants and more… food\, shopping and fun for all ages make it the perfect family afternoon. The market is dog friendly! \nParking \nFree on-street parking — including metered spaces — is available within walking distance of the market. Paid parking garages are located on South Osceola Avenue and North Eola Drive. Simply follow the city directional signs to the nearest garage.
URL:https://www.thorntonparkdistrict.com/event/orlando-farmers-market-3/2026-03-01/
LOCATION:Lake Eola Park\, Orlando\, FL\, 32801\, United States
ATTACH;FMTTYPE=image/jpeg:https://www.thorntonparkdistrict.com/wp-content/uploads/2023/07/326216097_1147661762554137_4919558894956435204_n.jpg
GEO:28.542586;-81.370775
END:VEVENT
BEGIN:VEVENT
DTSTART;TZID=America/New_York:20260305T180000
DTEND;TZID=America/New_York:20260305T220000
DTSTAMP:20260423T165740
CREATED:20250625T175140Z
LAST-MODIFIED:20250625T175140Z
UID:10000340-1772733600-1772748000@www.thorntonparkdistrict.com
SUMMARY:TPD Night Market
DESCRIPTION:EVENT DETAILS\nThe TPD Market is a regularly occurring event — every Thursday and Friday — highlighting uniquely fantastic local makers + artists. Held at TPD Circle\, we curate select artists/makers. We’re so looking forward to seeing you! \nInterested in participating?\nA market without makers would be\, well\, nothing at all. We’ve had so much fun getting to know so many Orlando makers + we can’t wait to meet even more. Apply for future TPD Market dates! Thank you for wanting to be a part of the TPD Market!
URL:https://www.thorntonparkdistrict.com/event/washington-street-market-2/2026-03-05/
LOCATION:TPD Circle\, Orlando\, FL\, 32801\, United States
ATTACH;FMTTYPE=image/jpeg:https://www.thorntonparkdistrict.com/wp-content/uploads/2024/02/TPD-Night-Market.jpg
GEO:28.542586;-81.370775
END:VEVENT
BEGIN:VEVENT
DTSTART;TZID=America/New_York:20260306T180000
DTEND;TZID=America/New_York:20260306T220000
DTSTAMP:20260423T165740
CREATED:20250625T175140Z
LAST-MODIFIED:20250625T175140Z
UID:10000341-1772820000-1772834400@www.thorntonparkdistrict.com
SUMMARY:TPD Night Market
DESCRIPTION:EVENT DETAILS\nThe TPD Market is a regularly occurring event — every Thursday and Friday — highlighting uniquely fantastic local makers + artists. Held at TPD Circle\, we curate select artists/makers. We’re so looking forward to seeing you! \nInterested in participating?\nA market without makers would be\, well\, nothing at all. We’ve had so much fun getting to know so many Orlando makers + we can’t wait to meet even more. Apply for future TPD Market dates! Thank you for wanting to be a part of the TPD Market!
URL:https://www.thorntonparkdistrict.com/event/washington-street-market-2/2026-03-06/
LOCATION:TPD Circle\, Orlando\, FL\, 32801\, United States
ATTACH;FMTTYPE=image/jpeg:https://www.thorntonparkdistrict.com/wp-content/uploads/2024/02/TPD-Night-Market.jpg
GEO:28.542586;-81.370775
END:VEVENT
BEGIN:VEVENT
DTSTART;TZID=America/New_York:20260308T100000
DTEND;TZID=America/New_York:20260308T150000
DTSTAMP:20260423T165740
CREATED:20240217T182753Z
LAST-MODIFIED:20240217T182753Z
UID:10000757-1772964000-1772982000@www.thorntonparkdistrict.com
SUMMARY:Orlando Farmers Market
DESCRIPTION:The Orlando Farmers Market is much more than your traditional farmers market. Bringing the best in fresh produce\, baked goods\, crafts\, gifts\, jewelry\, plants and more… food\, shopping and fun for all ages make it the perfect family afternoon. The market is dog friendly! \nParking \nFree on-street parking — including metered spaces — is available within walking distance of the market. Paid parking garages are located on South Osceola Avenue and North Eola Drive. Simply follow the city directional signs to the nearest garage.
URL:https://www.thorntonparkdistrict.com/event/orlando-farmers-market-3/2026-03-08/
LOCATION:Lake Eola Park\, Orlando\, FL\, 32801\, United States
ATTACH;FMTTYPE=image/jpeg:https://www.thorntonparkdistrict.com/wp-content/uploads/2023/07/326216097_1147661762554137_4919558894956435204_n.jpg
GEO:28.542586;-81.370775
END:VEVENT
BEGIN:VEVENT
DTSTART;TZID=America/New_York:20260312T180000
DTEND;TZID=America/New_York:20260312T220000
DTSTAMP:20260423T165740
CREATED:20250625T175140Z
LAST-MODIFIED:20250625T175140Z
UID:10000342-1773338400-1773352800@www.thorntonparkdistrict.com
SUMMARY:TPD Night Market
DESCRIPTION:EVENT DETAILS\nThe TPD Market is a regularly occurring event — every Thursday and Friday — highlighting uniquely fantastic local makers + artists. Held at TPD Circle\, we curate select artists/makers. We’re so looking forward to seeing you! \nInterested in participating?\nA market without makers would be\, well\, nothing at all. We’ve had so much fun getting to know so many Orlando makers + we can’t wait to meet even more. Apply for future TPD Market dates! Thank you for wanting to be a part of the TPD Market!
URL:https://www.thorntonparkdistrict.com/event/washington-street-market-2/2026-03-12/
LOCATION:TPD Circle\, Orlando\, FL\, 32801\, United States
ATTACH;FMTTYPE=image/jpeg:https://www.thorntonparkdistrict.com/wp-content/uploads/2024/02/TPD-Night-Market.jpg
GEO:28.542586;-81.370775
END:VEVENT
BEGIN:VEVENT
DTSTART;TZID=America/New_York:20260312T183000
DTEND;TZID=America/New_York:20260312T213000
DTSTAMP:20260423T165740
CREATED:20260311T185121Z
LAST-MODIFIED:20260311T185517Z
UID:10000032-1773340200-1773351000@www.thorntonparkdistrict.com
SUMMARY:Thornton Park District 2nd Thursday Wine & Art Walk
DESCRIPTION:Join us for another fun-filled evening in Thornton Park District! Purchase presale tickets on Eventbrite\, or at the event and meet us at the check-in location where you’ll pick up a wristband\, map and a tasting cup with more than 20 local businesses to stop for a tasty adult libation or treat! Along the way we have art vendors\, live music\, DJ’s and a night market at TPD Circle (near the SE corner of Lake Eola). This event is always dog friendly so bring them with you! \nCheck-in at: The Veranda in Thornton Park\, 707 E Washington St\, Orlando\, FL 32801\nSuggested Donation: $15 Pre-sale – $20 day of event and at check-in.\n21+ to sample alcohol – all ages to enjoy the arts and walk. No ticket needed for walking\, tickets are only needed for sampling. Please\, only one sample per location. Extra samples and unlimited sampling is not guaranteed. \n*CHECK IN TIME IS BETWEEN 6:30PM-9:00PM *\n**CHECK IN CLOSES AT 9:00PM**\n***RAIN OR SHINE – NO REFUNDS*** \n*The Thornton Park District is a non-profit entity made possible through the interest\, efforts\, and generosity of the City of Orlando Main Street Program as well as our many members and volunteers. Our monthly Wine & Art Walk is a fundraiser to support community improvement projects.
URL:https://www.thorntonparkdistrict.com/event/2nd-thursday-art-wine-walk-2-3-2/
LOCATION:FL
ATTACH;FMTTYPE=image/png:https://www.thorntonparkdistrict.com/wp-content/uploads/2026/01/IG-Graphic_March-Wine-Walk.png
ORGANIZER;CN="Thornton Park District":MAILTO:director@thorntonparkdistrict.com
END:VEVENT
BEGIN:VEVENT
DTSTART;TZID=America/New_York:20260313T180000
DTEND;TZID=America/New_York:20260313T220000
DTSTAMP:20260423T165740
CREATED:20250625T175140Z
LAST-MODIFIED:20250625T175140Z
UID:10000343-1773424800-1773439200@www.thorntonparkdistrict.com
SUMMARY:TPD Night Market
DESCRIPTION:EVENT DETAILS\nThe TPD Market is a regularly occurring event — every Thursday and Friday — highlighting uniquely fantastic local makers + artists. Held at TPD Circle\, we curate select artists/makers. We’re so looking forward to seeing you! \nInterested in participating?\nA market without makers would be\, well\, nothing at all. We’ve had so much fun getting to know so many Orlando makers + we can’t wait to meet even more. Apply for future TPD Market dates! Thank you for wanting to be a part of the TPD Market!
URL:https://www.thorntonparkdistrict.com/event/washington-street-market-2/2026-03-13/
LOCATION:TPD Circle\, Orlando\, FL\, 32801\, United States
ATTACH;FMTTYPE=image/jpeg:https://www.thorntonparkdistrict.com/wp-content/uploads/2024/02/TPD-Night-Market.jpg
GEO:28.542586;-81.370775
END:VEVENT
BEGIN:VEVENT
DTSTART;TZID=America/New_York:20260315T100000
DTEND;TZID=America/New_York:20260315T150000
DTSTAMP:20260423T165740
CREATED:20240217T182753Z
LAST-MODIFIED:20240217T182753Z
UID:10000758-1773568800-1773586800@www.thorntonparkdistrict.com
SUMMARY:Orlando Farmers Market
DESCRIPTION:The Orlando Farmers Market is much more than your traditional farmers market. Bringing the best in fresh produce\, baked goods\, crafts\, gifts\, jewelry\, plants and more… food\, shopping and fun for all ages make it the perfect family afternoon. The market is dog friendly! \nParking \nFree on-street parking — including metered spaces — is available within walking distance of the market. Paid parking garages are located on South Osceola Avenue and North Eola Drive. Simply follow the city directional signs to the nearest garage.
URL:https://www.thorntonparkdistrict.com/event/orlando-farmers-market-3/2026-03-15/
LOCATION:Lake Eola Park\, Orlando\, FL\, 32801\, United States
ATTACH;FMTTYPE=image/jpeg:https://www.thorntonparkdistrict.com/wp-content/uploads/2023/07/326216097_1147661762554137_4919558894956435204_n.jpg
GEO:28.542586;-81.370775
END:VEVENT
BEGIN:VEVENT
DTSTART;TZID=America/New_York:20260319T180000
DTEND;TZID=America/New_York:20260319T220000
DTSTAMP:20260423T165740
CREATED:20250625T175140Z
LAST-MODIFIED:20250625T175140Z
UID:10000344-1773943200-1773957600@www.thorntonparkdistrict.com
SUMMARY:TPD Night Market
DESCRIPTION:EVENT DETAILS\nThe TPD Market is a regularly occurring event — every Thursday and Friday — highlighting uniquely fantastic local makers + artists. Held at TPD Circle\, we curate select artists/makers. We’re so looking forward to seeing you! \nInterested in participating?\nA market without makers would be\, well\, nothing at all. We’ve had so much fun getting to know so many Orlando makers + we can’t wait to meet even more. Apply for future TPD Market dates! Thank you for wanting to be a part of the TPD Market!
URL:https://www.thorntonparkdistrict.com/event/washington-street-market-2/2026-03-19/
LOCATION:TPD Circle\, Orlando\, FL\, 32801\, United States
ATTACH;FMTTYPE=image/jpeg:https://www.thorntonparkdistrict.com/wp-content/uploads/2024/02/TPD-Night-Market.jpg
GEO:28.542586;-81.370775
END:VEVENT
BEGIN:VEVENT
DTSTART;TZID=America/New_York:20260320T180000
DTEND;TZID=America/New_York:20260320T220000
DTSTAMP:20260423T165740
CREATED:20250625T175140Z
LAST-MODIFIED:20250625T175140Z
UID:10000345-1774029600-1774044000@www.thorntonparkdistrict.com
SUMMARY:TPD Night Market
DESCRIPTION:EVENT DETAILS\nThe TPD Market is a regularly occurring event — every Thursday and Friday — highlighting uniquely fantastic local makers + artists. Held at TPD Circle\, we curate select artists/makers. We’re so looking forward to seeing you! \nInterested in participating?\nA market without makers would be\, well\, nothing at all. We’ve had so much fun getting to know so many Orlando makers + we can’t wait to meet even more. Apply for future TPD Market dates! Thank you for wanting to be a part of the TPD Market!
URL:https://www.thorntonparkdistrict.com/event/washington-street-market-2/2026-03-20/
LOCATION:TPD Circle\, Orlando\, FL\, 32801\, United States
ATTACH;FMTTYPE=image/jpeg:https://www.thorntonparkdistrict.com/wp-content/uploads/2024/02/TPD-Night-Market.jpg
GEO:28.542586;-81.370775
END:VEVENT
BEGIN:VEVENT
DTSTART;TZID=America/New_York:20260322T100000
DTEND;TZID=America/New_York:20260322T150000
DTSTAMP:20260423T165740
CREATED:20240217T182753Z
LAST-MODIFIED:20240217T182753Z
UID:10000759-1774173600-1774191600@www.thorntonparkdistrict.com
SUMMARY:Orlando Farmers Market
DESCRIPTION:The Orlando Farmers Market is much more than your traditional farmers market. Bringing the best in fresh produce\, baked goods\, crafts\, gifts\, jewelry\, plants and more… food\, shopping and fun for all ages make it the perfect family afternoon. The market is dog friendly! \nParking \nFree on-street parking — including metered spaces — is available within walking distance of the market. Paid parking garages are located on South Osceola Avenue and North Eola Drive. Simply follow the city directional signs to the nearest garage.
URL:https://www.thorntonparkdistrict.com/event/orlando-farmers-market-3/2026-03-22/
LOCATION:Lake Eola Park\, Orlando\, FL\, 32801\, United States
ATTACH;FMTTYPE=image/jpeg:https://www.thorntonparkdistrict.com/wp-content/uploads/2023/07/326216097_1147661762554137_4919558894956435204_n.jpg
GEO:28.542586;-81.370775
END:VEVENT
BEGIN:VEVENT
DTSTART;TZID=America/New_York:20260326T180000
DTEND;TZID=America/New_York:20260326T220000
DTSTAMP:20260423T165740
CREATED:20250625T175140Z
LAST-MODIFIED:20250625T175140Z
UID:10000346-1774548000-1774562400@www.thorntonparkdistrict.com
SUMMARY:TPD Night Market
DESCRIPTION:EVENT DETAILS\nThe TPD Market is a regularly occurring event — every Thursday and Friday — highlighting uniquely fantastic local makers + artists. Held at TPD Circle\, we curate select artists/makers. We’re so looking forward to seeing you! \nInterested in participating?\nA market without makers would be\, well\, nothing at all. We’ve had so much fun getting to know so many Orlando makers + we can’t wait to meet even more. Apply for future TPD Market dates! Thank you for wanting to be a part of the TPD Market!
URL:https://www.thorntonparkdistrict.com/event/washington-street-market-2/2026-03-26/
LOCATION:TPD Circle\, Orlando\, FL\, 32801\, United States
ATTACH;FMTTYPE=image/jpeg:https://www.thorntonparkdistrict.com/wp-content/uploads/2024/02/TPD-Night-Market.jpg
GEO:28.542586;-81.370775
END:VEVENT
BEGIN:VEVENT
DTSTART;TZID=America/New_York:20260327T180000
DTEND;TZID=America/New_York:20260327T220000
DTSTAMP:20260423T165740
CREATED:20250625T175140Z
LAST-MODIFIED:20250625T175140Z
UID:10000347-1774634400-1774648800@www.thorntonparkdistrict.com
SUMMARY:TPD Night Market
DESCRIPTION:EVENT DETAILS\nThe TPD Market is a regularly occurring event — every Thursday and Friday — highlighting uniquely fantastic local makers + artists. Held at TPD Circle\, we curate select artists/makers. We’re so looking forward to seeing you! \nInterested in participating?\nA market without makers would be\, well\, nothing at all. We’ve had so much fun getting to know so many Orlando makers + we can’t wait to meet even more. Apply for future TPD Market dates! Thank you for wanting to be a part of the TPD Market!
URL:https://www.thorntonparkdistrict.com/event/washington-street-market-2/2026-03-27/
LOCATION:TPD Circle\, Orlando\, FL\, 32801\, United States
ATTACH;FMTTYPE=image/jpeg:https://www.thorntonparkdistrict.com/wp-content/uploads/2024/02/TPD-Night-Market.jpg
GEO:28.542586;-81.370775
END:VEVENT
BEGIN:VEVENT
DTSTART;TZID=America/New_York:20260329T100000
DTEND;TZID=America/New_York:20260329T150000
DTSTAMP:20260423T165740
CREATED:20240217T182753Z
LAST-MODIFIED:20240217T182753Z
UID:10000760-1774778400-1774796400@www.thorntonparkdistrict.com
SUMMARY:Orlando Farmers Market
DESCRIPTION:The Orlando Farmers Market is much more than your traditional farmers market. Bringing the best in fresh produce\, baked goods\, crafts\, gifts\, jewelry\, plants and more… food\, shopping and fun for all ages make it the perfect family afternoon. The market is dog friendly! \nParking \nFree on-street parking — including metered spaces — is available within walking distance of the market. Paid parking garages are located on South Osceola Avenue and North Eola Drive. Simply follow the city directional signs to the nearest garage.
URL:https://www.thorntonparkdistrict.com/event/orlando-farmers-market-3/2026-03-29/
LOCATION:Lake Eola Park\, Orlando\, FL\, 32801\, United States
ATTACH;FMTTYPE=image/jpeg:https://www.thorntonparkdistrict.com/wp-content/uploads/2023/07/326216097_1147661762554137_4919558894956435204_n.jpg
GEO:28.542586;-81.370775
END:VEVENT
END:VCALENDAR