BEGIN:VCALENDAR
VERSION:2.0
PRODID:-//Thornton Park District - ECPv6.15.17.1//NONSGML v1.0//EN
CALSCALE:GREGORIAN
METHOD:PUBLISH
X-ORIGINAL-URL:https://www.thorntonparkdistrict.com
X-WR-CALDESC:Events for Thornton Park District
REFRESH-INTERVAL;VALUE=DURATION:PT1H
X-Robots-Tag:noindex
X-PUBLISHED-TTL:PT1H
BEGIN:VTIMEZONE
TZID:America/New_York
BEGIN:DAYLIGHT
TZOFFSETFROM:-0500
TZOFFSETTO:-0400
TZNAME:EDT
DTSTART:20250309T070000
END:DAYLIGHT
BEGIN:STANDARD
TZOFFSETFROM:-0400
TZOFFSETTO:-0500
TZNAME:EST
DTSTART:20251102T060000
END:STANDARD
BEGIN:DAYLIGHT
TZOFFSETFROM:-0500
TZOFFSETTO:-0400
TZNAME:EDT
DTSTART:20260308T070000
END:DAYLIGHT
BEGIN:STANDARD
TZOFFSETFROM:-0400
TZOFFSETTO:-0500
TZNAME:EST
DTSTART:20261101T060000
END:STANDARD
BEGIN:DAYLIGHT
TZOFFSETFROM:-0500
TZOFFSETTO:-0400
TZNAME:EDT
DTSTART:20270314T070000
END:DAYLIGHT
BEGIN:STANDARD
TZOFFSETFROM:-0400
TZOFFSETTO:-0500
TZNAME:EST
DTSTART:20271107T060000
END:STANDARD
END:VTIMEZONE
BEGIN:VEVENT
DTSTART;TZID=America/New_York:20260501T180000
DTEND;TZID=America/New_York:20260501T220000
DTSTAMP:20260423T165352
CREATED:20250625T175140Z
LAST-MODIFIED:20250625T175140Z
UID:10000357-1777658400-1777672800@www.thorntonparkdistrict.com
SUMMARY:TPD Night Market
DESCRIPTION:EVENT DETAILS\nThe TPD Market is a regularly occurring event — every Thursday and Friday — highlighting uniquely fantastic local makers + artists. Held at TPD Circle\, we curate select artists/makers. We’re so looking forward to seeing you! \nInterested in participating?\nA market without makers would be\, well\, nothing at all. We’ve had so much fun getting to know so many Orlando makers + we can’t wait to meet even more. Apply for future TPD Market dates! Thank you for wanting to be a part of the TPD Market!
URL:https://www.thorntonparkdistrict.com/event/washington-street-market-2/2026-05-01/
LOCATION:TPD Circle\, Orlando\, FL\, 32801\, United States
ATTACH;FMTTYPE=image/jpeg:https://www.thorntonparkdistrict.com/wp-content/uploads/2024/02/TPD-Night-Market.jpg
GEO:28.542586;-81.370775
END:VEVENT
BEGIN:VEVENT
DTSTART;TZID=America/New_York:20260503T100000
DTEND;TZID=America/New_York:20260503T150000
DTSTAMP:20260423T165352
CREATED:20240217T182753Z
LAST-MODIFIED:20240217T182753Z
UID:10000765-1777802400-1777820400@www.thorntonparkdistrict.com
SUMMARY:Orlando Farmers Market
DESCRIPTION:The Orlando Farmers Market is much more than your traditional farmers market. Bringing the best in fresh produce\, baked goods\, crafts\, gifts\, jewelry\, plants and more… food\, shopping and fun for all ages make it the perfect family afternoon. The market is dog friendly! \nParking \nFree on-street parking — including metered spaces — is available within walking distance of the market. Paid parking garages are located on South Osceola Avenue and North Eola Drive. Simply follow the city directional signs to the nearest garage.
URL:https://www.thorntonparkdistrict.com/event/orlando-farmers-market-3/2026-05-03/
LOCATION:Lake Eola Park\, Orlando\, FL\, 32801\, United States
ATTACH;FMTTYPE=image/jpeg:https://www.thorntonparkdistrict.com/wp-content/uploads/2023/07/326216097_1147661762554137_4919558894956435204_n.jpg
GEO:28.542586;-81.370775
END:VEVENT
BEGIN:VEVENT
DTSTART;TZID=America/New_York:20260507T180000
DTEND;TZID=America/New_York:20260507T220000
DTSTAMP:20260423T165352
CREATED:20250625T175140Z
LAST-MODIFIED:20250625T175140Z
UID:10000358-1778176800-1778191200@www.thorntonparkdistrict.com
SUMMARY:TPD Night Market
DESCRIPTION:EVENT DETAILS\nThe TPD Market is a regularly occurring event — every Thursday and Friday — highlighting uniquely fantastic local makers + artists. Held at TPD Circle\, we curate select artists/makers. We’re so looking forward to seeing you! \nInterested in participating?\nA market without makers would be\, well\, nothing at all. We’ve had so much fun getting to know so many Orlando makers + we can’t wait to meet even more. Apply for future TPD Market dates! Thank you for wanting to be a part of the TPD Market!
URL:https://www.thorntonparkdistrict.com/event/washington-street-market-2/2026-05-07/
LOCATION:TPD Circle\, Orlando\, FL\, 32801\, United States
ATTACH;FMTTYPE=image/jpeg:https://www.thorntonparkdistrict.com/wp-content/uploads/2024/02/TPD-Night-Market.jpg
GEO:28.542586;-81.370775
END:VEVENT
BEGIN:VEVENT
DTSTART;TZID=America/New_York:20260508T180000
DTEND;TZID=America/New_York:20260508T220000
DTSTAMP:20260423T165352
CREATED:20250625T175140Z
LAST-MODIFIED:20250625T175140Z
UID:10000359-1778263200-1778277600@www.thorntonparkdistrict.com
SUMMARY:TPD Night Market
DESCRIPTION:EVENT DETAILS\nThe TPD Market is a regularly occurring event — every Thursday and Friday — highlighting uniquely fantastic local makers + artists. Held at TPD Circle\, we curate select artists/makers. We’re so looking forward to seeing you! \nInterested in participating?\nA market without makers would be\, well\, nothing at all. We’ve had so much fun getting to know so many Orlando makers + we can’t wait to meet even more. Apply for future TPD Market dates! Thank you for wanting to be a part of the TPD Market!
URL:https://www.thorntonparkdistrict.com/event/washington-street-market-2/2026-05-08/
LOCATION:TPD Circle\, Orlando\, FL\, 32801\, United States
ATTACH;FMTTYPE=image/jpeg:https://www.thorntonparkdistrict.com/wp-content/uploads/2024/02/TPD-Night-Market.jpg
GEO:28.542586;-81.370775
END:VEVENT
BEGIN:VEVENT
DTSTART;TZID=America/New_York:20260510T100000
DTEND;TZID=America/New_York:20260510T150000
DTSTAMP:20260423T165352
CREATED:20240217T182753Z
LAST-MODIFIED:20240217T182753Z
UID:10000766-1778407200-1778425200@www.thorntonparkdistrict.com
SUMMARY:Orlando Farmers Market
DESCRIPTION:The Orlando Farmers Market is much more than your traditional farmers market. Bringing the best in fresh produce\, baked goods\, crafts\, gifts\, jewelry\, plants and more… food\, shopping and fun for all ages make it the perfect family afternoon. The market is dog friendly! \nParking \nFree on-street parking — including metered spaces — is available within walking distance of the market. Paid parking garages are located on South Osceola Avenue and North Eola Drive. Simply follow the city directional signs to the nearest garage.
URL:https://www.thorntonparkdistrict.com/event/orlando-farmers-market-3/2026-05-10/
LOCATION:Lake Eola Park\, Orlando\, FL\, 32801\, United States
ATTACH;FMTTYPE=image/jpeg:https://www.thorntonparkdistrict.com/wp-content/uploads/2023/07/326216097_1147661762554137_4919558894956435204_n.jpg
GEO:28.542586;-81.370775
END:VEVENT
BEGIN:VEVENT
DTSTART;TZID=America/New_York:20260514T180000
DTEND;TZID=America/New_York:20260514T220000
DTSTAMP:20260423T165352
CREATED:20250625T175140Z
LAST-MODIFIED:20250625T175140Z
UID:10000360-1778781600-1778796000@www.thorntonparkdistrict.com
SUMMARY:TPD Night Market
DESCRIPTION:EVENT DETAILS\nThe TPD Market is a regularly occurring event — every Thursday and Friday — highlighting uniquely fantastic local makers + artists. Held at TPD Circle\, we curate select artists/makers. We’re so looking forward to seeing you! \nInterested in participating?\nA market without makers would be\, well\, nothing at all. We’ve had so much fun getting to know so many Orlando makers + we can’t wait to meet even more. Apply for future TPD Market dates! Thank you for wanting to be a part of the TPD Market!
URL:https://www.thorntonparkdistrict.com/event/washington-street-market-2/2026-05-14/
LOCATION:TPD Circle\, Orlando\, FL\, 32801\, United States
ATTACH;FMTTYPE=image/jpeg:https://www.thorntonparkdistrict.com/wp-content/uploads/2024/02/TPD-Night-Market.jpg
GEO:28.542586;-81.370775
END:VEVENT
BEGIN:VEVENT
DTSTART;TZID=America/New_York:20260514T183000
DTEND;TZID=America/New_York:20260514T213000
DTSTAMP:20260423T165352
CREATED:20260129T185044Z
LAST-MODIFIED:20260129T190642Z
UID:10000034-1778783400-1778794200@www.thorntonparkdistrict.com
SUMMARY:Thornton Park District 2nd Thursday Wine & Art Walk
DESCRIPTION:Join us for another fun-filled evening in Thornton Park District! Purchase presale tickets on Eventbrite\, or at the event and meet us at the check-in location where you’ll pick up a wristband\, map and a tasting cup with more than 20 local businesses to stop for a tasty adult libation or treat! Along the way we have art vendors\, live music\, DJ’s and a night market at TPD Circle (near the SE corner of Lake Eola). This event is always dog friendly so bring them with you! \nCheck-in Location: TBD \nCost – Suggested Donation:\n$10 Early Bird\n$15 Pre-sale\n$20 Day of event and at check-in.\n21+ to sample alcohol – all ages to enjoy the arts and walk. No ticket needed for walking\, tickets are only needed for sampling. Please\, only one sample per location. Extra samples and unlimited sampling is not guaranteed. \n*CHECK IN TIME IS BETWEEN 6:30PM-9:00PM *\n**CHECK IN CLOSES AT 9:00PM**\n***RAIN OR SHINE – NO REFUNDS*** \n*The Thornton Park District is a non-profit entity made possible through the interest\, efforts\, and generosity of the City of Orlando Main Street Program as well as our many members and volunteers. Our monthly Wine & Art Walk is a fundraiser to support community improvement projects.
URL:https://www.thorntonparkdistrict.com/event/2nd-thursday-art-wine-walk-2-3/2026-05-14/
LOCATION:TPD Circle\, Orlando\, FL\, 32801\, United States
ATTACH;FMTTYPE=image/jpeg:https://www.thorntonparkdistrict.com/wp-content/uploads/2023/07/WW-Logo.jpg
ORGANIZER;CN="Thornton Park District":MAILTO:director@thorntonparkdistrict.com
GEO:28.542586;-81.370775
END:VEVENT
BEGIN:VEVENT
DTSTART;TZID=America/New_York:20260515T180000
DTEND;TZID=America/New_York:20260515T220000
DTSTAMP:20260423T165352
CREATED:20250625T175140Z
LAST-MODIFIED:20250625T175140Z
UID:10000361-1778868000-1778882400@www.thorntonparkdistrict.com
SUMMARY:TPD Night Market
DESCRIPTION:EVENT DETAILS\nThe TPD Market is a regularly occurring event — every Thursday and Friday — highlighting uniquely fantastic local makers + artists. Held at TPD Circle\, we curate select artists/makers. We’re so looking forward to seeing you! \nInterested in participating?\nA market without makers would be\, well\, nothing at all. We’ve had so much fun getting to know so many Orlando makers + we can’t wait to meet even more. Apply for future TPD Market dates! Thank you for wanting to be a part of the TPD Market!
URL:https://www.thorntonparkdistrict.com/event/washington-street-market-2/2026-05-15/
LOCATION:TPD Circle\, Orlando\, FL\, 32801\, United States
ATTACH;FMTTYPE=image/jpeg:https://www.thorntonparkdistrict.com/wp-content/uploads/2024/02/TPD-Night-Market.jpg
GEO:28.542586;-81.370775
END:VEVENT
BEGIN:VEVENT
DTSTART;TZID=America/New_York:20260517T100000
DTEND;TZID=America/New_York:20260517T150000
DTSTAMP:20260423T165352
CREATED:20240217T182753Z
LAST-MODIFIED:20240217T182753Z
UID:10000767-1779012000-1779030000@www.thorntonparkdistrict.com
SUMMARY:Orlando Farmers Market
DESCRIPTION:The Orlando Farmers Market is much more than your traditional farmers market. Bringing the best in fresh produce\, baked goods\, crafts\, gifts\, jewelry\, plants and more… food\, shopping and fun for all ages make it the perfect family afternoon. The market is dog friendly! \nParking \nFree on-street parking — including metered spaces — is available within walking distance of the market. Paid parking garages are located on South Osceola Avenue and North Eola Drive. Simply follow the city directional signs to the nearest garage.
URL:https://www.thorntonparkdistrict.com/event/orlando-farmers-market-3/2026-05-17/
LOCATION:Lake Eola Park\, Orlando\, FL\, 32801\, United States
ATTACH;FMTTYPE=image/jpeg:https://www.thorntonparkdistrict.com/wp-content/uploads/2023/07/326216097_1147661762554137_4919558894956435204_n.jpg
GEO:28.542586;-81.370775
END:VEVENT
BEGIN:VEVENT
DTSTART;TZID=America/New_York:20260521T180000
DTEND;TZID=America/New_York:20260521T220000
DTSTAMP:20260423T165352
CREATED:20250625T175140Z
LAST-MODIFIED:20250625T175140Z
UID:10000362-1779386400-1779400800@www.thorntonparkdistrict.com
SUMMARY:TPD Night Market
DESCRIPTION:EVENT DETAILS\nThe TPD Market is a regularly occurring event — every Thursday and Friday — highlighting uniquely fantastic local makers + artists. Held at TPD Circle\, we curate select artists/makers. We’re so looking forward to seeing you! \nInterested in participating?\nA market without makers would be\, well\, nothing at all. We’ve had so much fun getting to know so many Orlando makers + we can’t wait to meet even more. Apply for future TPD Market dates! Thank you for wanting to be a part of the TPD Market!
URL:https://www.thorntonparkdistrict.com/event/washington-street-market-2/2026-05-21/
LOCATION:TPD Circle\, Orlando\, FL\, 32801\, United States
ATTACH;FMTTYPE=image/jpeg:https://www.thorntonparkdistrict.com/wp-content/uploads/2024/02/TPD-Night-Market.jpg
GEO:28.542586;-81.370775
END:VEVENT
BEGIN:VEVENT
DTSTART;TZID=America/New_York:20260522T180000
DTEND;TZID=America/New_York:20260522T220000
DTSTAMP:20260423T165352
CREATED:20250625T175140Z
LAST-MODIFIED:20250625T175140Z
UID:10000363-1779472800-1779487200@www.thorntonparkdistrict.com
SUMMARY:TPD Night Market
DESCRIPTION:EVENT DETAILS\nThe TPD Market is a regularly occurring event — every Thursday and Friday — highlighting uniquely fantastic local makers + artists. Held at TPD Circle\, we curate select artists/makers. We’re so looking forward to seeing you! \nInterested in participating?\nA market without makers would be\, well\, nothing at all. We’ve had so much fun getting to know so many Orlando makers + we can’t wait to meet even more. Apply for future TPD Market dates! Thank you for wanting to be a part of the TPD Market!
URL:https://www.thorntonparkdistrict.com/event/washington-street-market-2/2026-05-22/
LOCATION:TPD Circle\, Orlando\, FL\, 32801\, United States
ATTACH;FMTTYPE=image/jpeg:https://www.thorntonparkdistrict.com/wp-content/uploads/2024/02/TPD-Night-Market.jpg
GEO:28.542586;-81.370775
END:VEVENT
BEGIN:VEVENT
DTSTART;TZID=America/New_York:20260524T100000
DTEND;TZID=America/New_York:20260524T150000
DTSTAMP:20260423T165352
CREATED:20240217T182753Z
LAST-MODIFIED:20240217T182753Z
UID:10000768-1779616800-1779634800@www.thorntonparkdistrict.com
SUMMARY:Orlando Farmers Market
DESCRIPTION:The Orlando Farmers Market is much more than your traditional farmers market. Bringing the best in fresh produce\, baked goods\, crafts\, gifts\, jewelry\, plants and more… food\, shopping and fun for all ages make it the perfect family afternoon. The market is dog friendly! \nParking \nFree on-street parking — including metered spaces — is available within walking distance of the market. Paid parking garages are located on South Osceola Avenue and North Eola Drive. Simply follow the city directional signs to the nearest garage.
URL:https://www.thorntonparkdistrict.com/event/orlando-farmers-market-3/2026-05-24/
LOCATION:Lake Eola Park\, Orlando\, FL\, 32801\, United States
ATTACH;FMTTYPE=image/jpeg:https://www.thorntonparkdistrict.com/wp-content/uploads/2023/07/326216097_1147661762554137_4919558894956435204_n.jpg
GEO:28.542586;-81.370775
END:VEVENT
BEGIN:VEVENT
DTSTART;TZID=America/New_York:20260528T180000
DTEND;TZID=America/New_York:20260528T220000
DTSTAMP:20260423T165352
CREATED:20250625T175140Z
LAST-MODIFIED:20250625T175140Z
UID:10000364-1779991200-1780005600@www.thorntonparkdistrict.com
SUMMARY:TPD Night Market
DESCRIPTION:EVENT DETAILS\nThe TPD Market is a regularly occurring event — every Thursday and Friday — highlighting uniquely fantastic local makers + artists. Held at TPD Circle\, we curate select artists/makers. We’re so looking forward to seeing you! \nInterested in participating?\nA market without makers would be\, well\, nothing at all. We’ve had so much fun getting to know so many Orlando makers + we can’t wait to meet even more. Apply for future TPD Market dates! Thank you for wanting to be a part of the TPD Market!
URL:https://www.thorntonparkdistrict.com/event/washington-street-market-2/2026-05-28/
LOCATION:TPD Circle\, Orlando\, FL\, 32801\, United States
ATTACH;FMTTYPE=image/jpeg:https://www.thorntonparkdistrict.com/wp-content/uploads/2024/02/TPD-Night-Market.jpg
GEO:28.542586;-81.370775
END:VEVENT
BEGIN:VEVENT
DTSTART;TZID=America/New_York:20260529T180000
DTEND;TZID=America/New_York:20260529T220000
DTSTAMP:20260423T165352
CREATED:20250625T175140Z
LAST-MODIFIED:20250625T175140Z
UID:10000365-1780077600-1780092000@www.thorntonparkdistrict.com
SUMMARY:TPD Night Market
DESCRIPTION:EVENT DETAILS\nThe TPD Market is a regularly occurring event — every Thursday and Friday — highlighting uniquely fantastic local makers + artists. Held at TPD Circle\, we curate select artists/makers. We’re so looking forward to seeing you! \nInterested in participating?\nA market without makers would be\, well\, nothing at all. We’ve had so much fun getting to know so many Orlando makers + we can’t wait to meet even more. Apply for future TPD Market dates! Thank you for wanting to be a part of the TPD Market!
URL:https://www.thorntonparkdistrict.com/event/washington-street-market-2/2026-05-29/
LOCATION:TPD Circle\, Orlando\, FL\, 32801\, United States
ATTACH;FMTTYPE=image/jpeg:https://www.thorntonparkdistrict.com/wp-content/uploads/2024/02/TPD-Night-Market.jpg
GEO:28.542586;-81.370775
END:VEVENT
BEGIN:VEVENT
DTSTART;TZID=America/New_York:20260531T100000
DTEND;TZID=America/New_York:20260531T150000
DTSTAMP:20260423T165352
CREATED:20240217T182753Z
LAST-MODIFIED:20240217T182753Z
UID:10000769-1780221600-1780239600@www.thorntonparkdistrict.com
SUMMARY:Orlando Farmers Market
DESCRIPTION:The Orlando Farmers Market is much more than your traditional farmers market. Bringing the best in fresh produce\, baked goods\, crafts\, gifts\, jewelry\, plants and more… food\, shopping and fun for all ages make it the perfect family afternoon. The market is dog friendly! \nParking \nFree on-street parking — including metered spaces — is available within walking distance of the market. Paid parking garages are located on South Osceola Avenue and North Eola Drive. Simply follow the city directional signs to the nearest garage.
URL:https://www.thorntonparkdistrict.com/event/orlando-farmers-market-3/2026-05-31/
LOCATION:Lake Eola Park\, Orlando\, FL\, 32801\, United States
ATTACH;FMTTYPE=image/jpeg:https://www.thorntonparkdistrict.com/wp-content/uploads/2023/07/326216097_1147661762554137_4919558894956435204_n.jpg
GEO:28.542586;-81.370775
END:VEVENT
END:VCALENDAR